BEGIN:VCALENDAR
VERSION:2.0
PRODID:events.yourlibrary.com.au
BEGIN:VEVENT
UID:6034d6027db32
DTSTART;TZID=Australia/Melbourne:20210311T133000
SEQUENCE:0
TRANSP:OPAQUE
DTEND;TZID=Australia/Melbourne:20210311T143000
URL:https://events.yourlibrary.com.au/event?id=21665
LOCATION:Bayswater Library\, Shop 26\, Mountain High Shopping Centre\, 7-13
  High St\, Bayswater 3153 VIC
SUMMARY:Knit And Natter
CLASS:PUBLIC
DESCRIPTION:Description:\nJoin our knitting and crocheting group for advanc
 ed or beginners. Come and share your trusty patterns as well as new ones.
DTSTAMP:20210223T101634Z
END:VEVENT
END:VCALENDAR