BEGIN:VCALENDAR
VERSION:2.0
PRODID:events.yourlibrary.com.au
BEGIN:VEVENT
UID:6034d6ca8c932
DTSTART;TZID=Australia/Melbourne:20210302T183000
SEQUENCE:0
TRANSP:OPAQUE
DTEND;TZID=Australia/Melbourne:20210302T213000
URL:https://events.yourlibrary.com.au/event?id=21679
LOCATION:Belgrave Library\, Reynolds Lane\, Belgrave 3160 VIC
SUMMARY:Ranges Chess Club
CLASS:PUBLIC
DESCRIPTION:Description:\nPlaying chess can raise the player's IQ\, exercis
 e both sides of the brain\, increase creativity and problem-solving skills
 \, improve memory\, reading skills and concentration. Ranges Chess Club In
 c. meets on Tuesdays during the school term at the Belgrave library. We of
 fer a friendly and inclusive environment for Adult and Junior chess player
 s of all ages and abilities.\nBookings are essential as places are limited
  due to current COVID-19 government restrictions.\nBeginners and Juniors 6
 :30pm - 7:00pm\nSocial Chess: 7:00pm - 10:00pm\nFor membership information
  and bookings please call Tanji on 0401833826\n\nRequirements:\nMembership
  fees apply
DTSTAMP:20210223T101954Z
END:VEVENT
END:VCALENDAR