BEGIN:VCALENDAR
VERSION:2.0
PRODID:events.yourlibrary.com.au
BEGIN:VEVENT
UID:6034d4b8ba096
DTSTART;TZID=Australia/Melbourne:20210305T140000
SEQUENCE:0
TRANSP:OPAQUE
DTEND;TZID=Australia/Melbourne:20210305T160000
URL:https://events.yourlibrary.com.au/event?id=21829
LOCATION:Ferntree Gully Library\, 1010 Burwood Hwy\, Ferntree Gully 3156 VI
 C
SUMMARY:Knit And Crochet For Charity
CLASS:PUBLIC
DESCRIPTION:Description:\nJoin our dedicated group of crafters making items
  for charity.\n\nRequirements:\nPlease bring your own yarn\, knitting need
 les and crochet hooks.
DTSTAMP:20210223T101104Z
END:VEVENT
END:VCALENDAR