BEGIN:VCALENDAR
VERSION:2.0
PRODID:events.yourlibrary.com.au
BEGIN:VEVENT
UID:6034d726bc96e
DTSTART;TZID=Australia/Melbourne:20210305T130000
SEQUENCE:0
TRANSP:OPAQUE
DTEND;TZID=Australia/Melbourne:20210305T160000
URL:https://events.yourlibrary.com.au/event?id=21843
LOCATION:Yarra Junction Library\, 1A Hoddle St\, Yarra Junction 3797 VIC
SUMMARY:Drop In Fridays - Cards And Chat
CLASS:PUBLIC
DESCRIPTION:Description:\nCome along to Yarra Junction Library to play card
 s or feel free to just have a cuppa.\nEveryone is welcome!
DTSTAMP:20210223T102126Z
END:VEVENT
END:VCALENDAR