BEGIN:VCALENDAR
VERSION:2.0
PRODID:events.yourlibrary.com.au
BEGIN:VEVENT
UID:6034d731b80ac
DTSTART;TZID=Australia/Melbourne:20210312T130000
SEQUENCE:0
TRANSP:OPAQUE
DTEND;TZID=Australia/Melbourne:20210312T160000
URL:https://events.yourlibrary.com.au/event?id=21844
LOCATION:Yarra Junction Library\, 1A Hoddle St\, Yarra Junction 3797 VIC
SUMMARY:Drop In Fridays - Cards And Chat
CLASS:PUBLIC
DESCRIPTION:Description:\nCome along to Yarra Junction Library to play card
 s or feel free to just have a cuppa.\nEveryone is welcome!
DTSTAMP:20210223T102137Z
END:VEVENT
END:VCALENDAR