BEGIN:VCALENDAR
VERSION:2.0
PRODID:events.yourlibrary.com.au
BEGIN:VEVENT
UID:6034d7ea1f005
DTSTART;TZID=Australia/Melbourne:20210315T090000
SEQUENCE:0
TRANSP:OPAQUE
DTEND;TZID=Australia/Melbourne:20210315T120000
URL:https://events.yourlibrary.com.au/event?id=21896
LOCATION:Knox Library\, 425 Burwood Hwy\, Wantirna South 3152 VIC
SUMMARY:Brainworks @ The Library
CLASS:PUBLIC
DESCRIPTION:Description:\nCome along and challenge yourself! Maintain and i
 mprove your brain with fun brain training activities and exercises\, inclu
 ding Memory\, Attention\, Language\, Executive functions\, Visual and Spat
 ial skills.\n\nRequirements:\nEvery Monday\, 9.00am-12.00 midday and 3.00p
 m - 5.00pm (during school terms)
DTSTAMP:20210223T102442Z
END:VEVENT
END:VCALENDAR