BEGIN:VCALENDAR
VERSION:2.0
PRODID:events.yourlibrary.com.au
BEGIN:VEVENT
UID:6034d7e6b9ea3
DTSTART;TZID=Australia/Melbourne:20210311T160000
SEQUENCE:0
TRANSP:OPAQUE
DTEND;TZID=Australia/Melbourne:20210311T180000
URL:https://events.yourlibrary.com.au/event?id=21934
LOCATION:Belgrave Library\, Reynolds Lane\, Belgrave 3160 VIC
SUMMARY:Brainworks @ The Library
CLASS:PUBLIC
DESCRIPTION:Description:\nCome along and challenge yourself! Maintain and i
 mprove your brain with fun brain training activities and exercises\, inclu
 ding Memory\, Attention\, Language\, Executive functions\, Visual and Spat
 ial skills.\nBookings essential as places are limited due to current COVID
 -19 government restrictions.\n\nRequirements:\nEvery Thursday\, 4.00pm - 6
 .00 pm (during school terms). Laptop computers supplied.
DTSTAMP:20210223T102438Z
END:VEVENT
END:VCALENDAR