BEGIN:VCALENDAR
VERSION:2.0
PRODID:events.yourlibrary.com.au
BEGIN:VEVENT
UID:6034d942c9063
DTSTART;TZID=Australia/Melbourne:20210225T180000
SEQUENCE:0
TRANSP:OPAQUE
DTEND;TZID=Australia/Melbourne:20210225T200000
URL:https://events.yourlibrary.com.au/event?id=21941
LOCATION:Belgrave Library\, Reynolds Lane\, Belgrave 3160 VIC
SUMMARY:Read Write Now
CLASS:PUBLIC
DESCRIPTION:Description:\nRead Write Now is a program offered by Mountain D
 istrict Learning Center and it is for people who want to improve their rea
 ding and writing skills. It provides practice in listening\, speaking\, re
 ading and writing as well as help with grammar and pronunciation. \nThe pr
 ogram runs every Thursday during school terms.\nBookings essential as plac
 es are limited due to current COVID-19 government restrictions.
DTSTAMP:20210223T103026Z
END:VEVENT
END:VCALENDAR