BEGIN:VCALENDAR
VERSION:2.0
PRODID:events.yourlibrary.com.au
BEGIN:VEVENT
UID:6034d7e372963
DTSTART;TZID=Australia/Melbourne:20210311T103000
SEQUENCE:0
TRANSP:OPAQUE
DTEND;TZID=Australia/Melbourne:20210311T113000
URL:https://events.yourlibrary.com.au/event?id=21952
LOCATION:Belgrave Library\, Reynolds Lane\, Belgrave 3160 VIC
SUMMARY:Love\, Peace\, Harmony Meditation
CLASS:PUBLIC
DESCRIPTION:Description:\nJoin Bev at the Belgrave library and experience t
 he power of oneness to create inner peace and stillness. The Love\, Peace 
 Harmony meditation is intended to create a relaxing\, healing and nourishi
 ng field to bring greater health\, happiness\, and success to life. Medita
 tion includes listening to music\, positive mantras and whole body relaxat
 ion.\nBookings essential as places are limited due to current COVID-19 gov
 ernment restrictions.
DTSTAMP:20210223T102435Z
END:VEVENT
END:VCALENDAR