BEGIN:VCALENDAR
VERSION:2.0
PRODID:events.yourlibrary.com.au
BEGIN:VEVENT
UID:6034d72e4af9a
DTSTART;TZID=Australia/Melbourne:20210311T170000
SEQUENCE:0
TRANSP:OPAQUE
DTEND;TZID=Australia/Melbourne:20210311T200000
URL:https://events.yourlibrary.com.au/event?id=21960
LOCATION:Knox Library\, 425 Burwood Hwy\, Wantirna South 3152 VIC
SUMMARY:Knox Writers
CLASS:PUBLIC
DESCRIPTION:Description:\nA Knox Writers group aimed at workshopping materi
 al to improve your writing skills with other budding writers!
DTSTAMP:20210223T102134Z
END:VEVENT
END:VCALENDAR