BEGIN:VCALENDAR
VERSION:2.0
PRODID:events.yourlibrary.com.au
BEGIN:VEVENT
UID:6034d7f852464
DTSTART;TZID=Australia/Melbourne:20210224T110000
SEQUENCE:0
TRANSP:OPAQUE
DTEND;TZID=Australia/Melbourne:20210224T113000
URL:https://events.yourlibrary.com.au/event?id=22006
LOCATION:Realm Library\, Ringwood Town Square\, 179 Maroondah Hwy\, Ringwoo
 d 3134 VIC
SUMMARY:Family Storytime At Realm Library
CLASS:PUBLIC
DESCRIPTION:Description:\nBookings are essential for every child and adult 
 over 12 months.\nNumbers are limited.\nSocial distancing will be observed.
 \nSessions will run for 20 minutes and include stories and rhymes and a ta
 ke-home craft activity.\nBookings open 3 days before the session.\nConditi
 ons of Entry to the library must be observed.
DTSTAMP:20210223T102456Z
END:VEVENT
END:VCALENDAR