BEGIN:VCALENDAR
VERSION:2.0
PRODID:events.yourlibrary.com.au
BEGIN:VEVENT
UID:6034d7dc787e3
DTSTART;TZID=Australia/Melbourne:20210308T123000
SEQUENCE:0
TRANSP:OPAQUE
DTEND;TZID=Australia/Melbourne:20210308T143000
URL:https://events.yourlibrary.com.au/event?id=22012
LOCATION:Rowville Library\, Stud Park Shopping Centre\, Stud Rd\, Rowville 
 3178 VIC
SUMMARY:Brainworks @ The Library
CLASS:PUBLIC
DESCRIPTION:Description:\nCome along and challenge yourself! Maintain and i
 mprove your brain with fun activities. Brain exercises done regularly migh
 t help maintain or improve your thinking skills. Join Carmen from the Moun
 tain District Learning Centre for this fun weekly session. Laptops supplie
 d.
DTSTAMP:20210223T102428Z
END:VEVENT
END:VCALENDAR