BEGIN:VCALENDAR
VERSION:2.0
PRODID:events.yourlibrary.com.au
BEGIN:VEVENT
UID:6034d5c8b7e9a
DTSTART;TZID=Australia/Melbourne:20210316T140000
SEQUENCE:0
TRANSP:OPAQUE
DTEND;TZID=Australia/Melbourne:20210316T160000
URL:https://events.yourlibrary.com.au/event?id=22017
LOCATION:Croydon Library\, 5 Civic Square\, Croydon 3136 VIC
SUMMARY:Pageturners Bookchat
CLASS:PUBLIC
DESCRIPTION:Description:\nRead something amazing and just need to share it?
  Join us for an informal discussion about books that you've recently read.
DTSTAMP:20210223T101536Z
END:VEVENT
END:VCALENDAR