BEGIN:VCALENDAR
VERSION:2.0
PRODID:events.yourlibrary.com.au
BEGIN:VEVENT
UID:6034db2583247
DTSTART;TZID=Australia/Melbourne:20210422T100000
SEQUENCE:0
TRANSP:OPAQUE
DTEND;TZID=Australia/Melbourne:20210422T120000
URL:https://events.yourlibrary.com.au/event?id=22047
LOCATION:Healesville Library\, 110 River St\, Healesville 3777 VIC
SUMMARY:Healesville U3A Scrabble Group
CLASS:PUBLIC
DESCRIPTION:Description:\nJoin members of the Healesville U3A for a game of
  Scrabble\, each Thursday in the library during term time.
DTSTAMP:20210223T103829Z
END:VEVENT
END:VCALENDAR