BEGIN:VCALENDAR
VERSION:2.0
PRODID:events.yourlibrary.com.au
BEGIN:VEVENT
UID:6034d8416d3d8
DTSTART;TZID=Australia/Melbourne:20210224T140000
SEQUENCE:0
TRANSP:OPAQUE
DTEND;TZID=Australia/Melbourne:20210224T143000
URL:https://events.yourlibrary.com.au/event?id=22078
LOCATION:Knox Library\, 425 Burwood Hwy\, Wantirna South 3152 VIC
SUMMARY:Tiny Tots Storytime At Knox Library
CLASS:PUBLIC
DESCRIPTION:Description:\nJoin us for simple stories and rhymes to support 
 your child's development\, in a session designed to introduce language and
  a love of books to your baby.\nNumbers are limited.\nSocial distancing wi
 ll be observed.\nSessions will run for 20 minutes and include stories and 
 rhymes.\nBookings open 3 days before the session.\nConditions of Entry to 
 the library must be observed.\n\nRequirements:\nAll children aged 12 and u
 nder must be accompanied by an adult.
DTSTAMP:20210223T102609Z
END:VEVENT
END:VCALENDAR