BEGIN:VCALENDAR
VERSION:2.0
PRODID:events.yourlibrary.com.au
BEGIN:VEVENT
UID:6034d844ef76f
DTSTART;TZID=Australia/Melbourne:20210224T140000
SEQUENCE:0
TRANSP:OPAQUE
DTEND;TZID=Australia/Melbourne:20210224T143000
URL:https://events.yourlibrary.com.au/event?id=22083
LOCATION:Lilydale Library\, Box Hill Institute Lilydale Campus \, Jarlo Dri
 ve\, Lilydale 3140 VIC
SUMMARY:Tiny Tots  @Lilydale Library
CLASS:PUBLIC
DESCRIPTION:Description:\nJoin us for stories and rhymes for babies up to 1
 2 months\nBookings are essential for every child and adult over 12 months.
 \nNumbers are limited.\nSocial distancing will be observed.\nSessions will
  run for 30 minutes and include stories and rhymes.\nBookings open 3 days 
 before the session.\nConditions of Entry to the library must be observed.
DTSTAMP:20210223T102612Z
END:VEVENT
END:VCALENDAR