BEGIN:VCALENDAR
VERSION:2.0
PRODID:events.yourlibrary.com.au
BEGIN:VEVENT
UID:6034da2f56933
DTSTART;TZID=Australia/Melbourne:20210302T140000
SEQUENCE:0
TRANSP:OPAQUE
DTEND;TZID=Australia/Melbourne:20210302T143000
URL:https://events.yourlibrary.com.au/event?id=22094
LOCATION:Rowville Library\, Stud Park Shopping Centre\, Stud Rd\, Rowville 
 3178 VIC
SUMMARY:Tiny Tots Storytime At Rowville Library
CLASS:PUBLIC
DESCRIPTION:Description:\nJoin us for simple stories and rhymes to support 
 your baby's development in a session designed to introduce language and a 
 love of books.\nBookings are essential for every person over 12 months of 
 age. If your baby is under 12 months they do not require a booking.\nNumbe
 rs are limited.\nSocial distancing will be observed.\nSessions will run fo
 r 20 minutes and include stories and rhymes.\nBookings open 3 days before 
 the session.\nConditions of Entry to the library must be observed.
DTSTAMP:20210223T103423Z
END:VEVENT
END:VCALENDAR