BEGIN:VCALENDAR
VERSION:2.0
PRODID:events.yourlibrary.com.au
BEGIN:VEVENT
UID:6034d7f4b2fd5
DTSTART;TZID=Australia/Melbourne:20210224T103000
SEQUENCE:0
TRANSP:OPAQUE
DTEND;TZID=Australia/Melbourne:20210224T110000
URL:https://events.yourlibrary.com.au/event?id=22102
LOCATION:Rowville Library\, Stud Park Shopping Centre\, Stud Rd\, Rowville 
 3178 VIC
SUMMARY:Family Storytime At Rowville Library
CLASS:PUBLIC
DESCRIPTION:Description:\nBookings are essential for every child and adult 
 over 12 months.\nNumbers are limited.\nSocial distancing will be observed.
 \nSessions will run for 20 minutes and include stories and rhymes and a ta
 ke-home craft activity.\nBookings open 3 days before the session.\nConditi
 ons of Entry to the library must be observed.
DTSTAMP:20210223T102452Z
END:VEVENT
END:VCALENDAR