BEGIN:VCALENDAR
VERSION:2.0
PRODID:events.yourlibrary.com.au
BEGIN:VEVENT
UID:6034d8dcc5a81
DTSTART;TZID=Australia/Melbourne:20210301T100000
SEQUENCE:0
TRANSP:OPAQUE
DTEND;TZID=Australia/Melbourne:20210301T103000
URL:https://events.yourlibrary.com.au/event?id=22108
LOCATION:Yarra Junction Library\, 1A Hoddle St\, Yarra Junction 3797 VIC
SUMMARY:Family Storytime At Yarra Junction Library
CLASS:PUBLIC
DESCRIPTION:Description:\nBookings are essential for every child and adult 
 over 12 months.\nNumbers are limited.\nSocial distancing will be observed.
 \nSessions will run for 20 minutes and include stories\, rhymes\, and a ta
 ke-home craft activity.\nBookings open 5 days before the session.\nConditi
 ons of Entry to the library must be observed.
DTSTAMP:20210223T102844Z
END:VEVENT
END:VCALENDAR