BEGIN:VCALENDAR
VERSION:2.0
PRODID:events.yourlibrary.com.au
BEGIN:VEVENT
UID:6034d8485d5ad
DTSTART;TZID=Australia/Melbourne:20210225T100000
SEQUENCE:0
TRANSP:OPAQUE
DTEND;TZID=Australia/Melbourne:20210225T103000
URL:https://events.yourlibrary.com.au/event?id=22114
LOCATION:Yarra Junction Library\, 1A Hoddle St\, Yarra Junction 3797 VIC
SUMMARY:Tiny Tots Storytime At Yarra Junction Library
CLASS:PUBLIC
DESCRIPTION:Description:\nJoin us for simple stories and rhymes to support 
 your child's development. These sessions are designed to introduce languag
 e and a love of books to your baby. Sessions will run for 20 minutes and i
 nclude stories and rhymes. \nBookings are essential for every adult and ch
 ild over 12 months. Bookings open 5 days before the session.\nNumbers are 
 limited.\nSocial distancing will be observed.\nConditions of Entry to the 
 library must be observed.
DTSTAMP:20210223T102616Z
END:VEVENT
END:VCALENDAR