BEGIN:VCALENDAR
VERSION:2.0
PRODID:events.yourlibrary.com.au
BEGIN:VEVENT
UID:6034da079be1c
DTSTART;TZID=Australia/Melbourne:20210302T100000
SEQUENCE:0
TRANSP:OPAQUE
DTEND;TZID=Australia/Melbourne:20210302T103000
URL:https://events.yourlibrary.com.au/event?id=22147
LOCATION:Healesville Library\, 110 River St\, Healesville 3777 VIC
SUMMARY:Tiny Tots Storytime At Healesville Library
CLASS:PUBLIC
DESCRIPTION:Description:\nJoin us for simple stories and rhymes to support 
 your child's development in a session designed to introduce language and a
  love of books to your baby.\nBookings are essential for every child and a
 dult over 12 months.\nNumbers are limited.\nSocial distancing will be obse
 rved.\nSessions will run for 20 minutes and include stories and rhymes.\nB
 ookings open 5 days before the session.\nConditions of Entry to the librar
 y must be observed.
DTSTAMP:20210223T103343Z
END:VEVENT
END:VCALENDAR