BEGIN:VCALENDAR
VERSION:2.0
PRODID:events.yourlibrary.com.au
BEGIN:VEVENT
UID:6034d9f8ca8bf
DTSTART;TZID=Australia/Melbourne:20210302T130000
SEQUENCE:0
TRANSP:OPAQUE
DTEND;TZID=Australia/Melbourne:20210302T133000
URL:https://events.yourlibrary.com.au/event?id=22152
LOCATION:Croydon Library\, 5 Civic Square\, Croydon 3136 VIC
SUMMARY:Tiny Tots Storytime At Croydon Library
CLASS:PUBLIC
DESCRIPTION:Description:\nJoin us for simple stories and rhymes to support 
 your child's development\, in a session designed to introduce language and
  a love of books to your baby.\nBookings are essential for every child and
  adult over 12 months.\nNumbers are limited.\nSocial distancing will be ob
 served.\nSessions will run for 20 minutes and include stories and rhymes.\
 nBookings open 3 days before the session.\nConditions of Entry to the libr
 ary must be observed.
DTSTAMP:20210223T103328Z
END:VEVENT
END:VCALENDAR