BEGIN:VCALENDAR
VERSION:2.0
PRODID:events.yourlibrary.com.au
BEGIN:VEVENT
UID:6034d8aad0bc7
DTSTART;TZID=Australia/Melbourne:20210226T100000
SEQUENCE:0
TRANSP:OPAQUE
DTEND;TZID=Australia/Melbourne:20210226T103000
URL:https://events.yourlibrary.com.au/event?id=22173
LOCATION:Mooroolbark Library\, 7 Station St\, Mooroolbark 3138 VIC
SUMMARY:Family Storytime At Mooroolbark Library
CLASS:PUBLIC
DESCRIPTION:Description:\nBookings are essential for every child and adult 
 over 12 months.\nNumbers are limited.\nSocial distancing will be observed.
 \nSessions will run for 20 minutes and include stories and rhymes and a ta
 ke-home craft activity.\nBookings open 3 days before the session.\nConditi
 ons of Entry to the library must be observed.
DTSTAMP:20210223T102754Z
END:VEVENT
END:VCALENDAR