BEGIN:VCALENDAR
VERSION:2.0
PRODID:events.yourlibrary.com.au
BEGIN:VEVENT
UID:6034d7ff7ccf3
DTSTART;TZID=Australia/Melbourne:20210224T110000
SEQUENCE:0
TRANSP:OPAQUE
DTEND;TZID=Australia/Melbourne:20210224T113000
URL:https://events.yourlibrary.com.au/event?id=22175
LOCATION:Mooroolbark Library\, 7 Station St\, Mooroolbark 3138 VIC
SUMMARY:Tiny Tots At Mooroolbark Library
CLASS:PUBLIC
DESCRIPTION:Description:\nBookings are essential for every child and adult 
 over 12 months.\nNumbers are limited.\nSocial distancing will be observed.
 \nSessions will run for 20 minutes and include stories and rhymes. \nBooki
 ngs open 3 days before the session.\nConditions of Entry to the library mu
 st be observed.
DTSTAMP:20210223T102503Z
END:VEVENT
END:VCALENDAR