BEGIN:VCALENDAR
VERSION:2.0
PRODID:events.yourlibrary.com.au
BEGIN:VEVENT
UID:6034d63640f4c
DTSTART;TZID=Australia/Melbourne:20210311T151500
SEQUENCE:0
TRANSP:OPAQUE
DTEND;TZID=Australia/Melbourne:20210311T161500
URL:https://events.yourlibrary.com.au/event?id=22179
LOCATION:Ferntree Gully Library\, 1010 Burwood Hwy\, Ferntree Gully 3156 VI
 C
SUMMARY:Colour And Colouring For Adults
CLASS:PUBLIC
DESCRIPTION:Description:\nTake the opportunity to join others for some rela
 xing colouring in for Adults. Basic supplies will be available\, but pleas
 e bring your own if you have them.\n\nRequirements:\nBookings essential
DTSTAMP:20210223T101726Z
END:VEVENT
END:VCALENDAR