BEGIN:VCALENDAR
VERSION:2.0
PRODID:events.yourlibrary.com.au
BEGIN:VEVENT
UID:6034d9bd3347a
DTSTART;TZID=Australia/Melbourne:20210302T130000
SEQUENCE:0
TRANSP:OPAQUE
DTEND;TZID=Australia/Melbourne:20210302T133000
URL:https://events.yourlibrary.com.au/event?id=22223
LOCATION:Boronia Library\, Park Crescent\, Boronia 3155 VIC
SUMMARY:Tiny Tots Storytime @ Boronia Library
CLASS:PUBLIC
DESCRIPTION:Description:\nJoin us for stories and rhymes for babies up to 1
 2 months\nBookings are essential for every child and adult over 12 months.
 \nNumbers are limited.\nSocial distancing will be observed.\nSessions will
  run for 20 minutes and include stories and rhymes.\nBookings open 3 days 
 before the session.\nConditions of Entry to the library must be observed.
DTSTAMP:20210223T103229Z
END:VEVENT
END:VCALENDAR