BEGIN:VCALENDAR
VERSION:2.0
PRODID:events.yourlibrary.com.au
BEGIN:VEVENT
UID:6034d6bcec704
DTSTART;TZID=Australia/Melbourne:20210227T100000
SEQUENCE:0
TRANSP:OPAQUE
DTEND;TZID=Australia/Melbourne:20210227T113000
URL:https://events.yourlibrary.com.au/event?id=22238
LOCATION:Realm Library\, Ringwood Town Square\, 179 Maroondah Hwy\, Ringwoo
 d 3134 VIC
SUMMARY:Realm Writers Group
CLASS:PUBLIC
DESCRIPTION:Description:\nBeginner and experienced writers are invited to t
 hese free monthly sessions\, curated by local freelance copywriter Carmen 
 Thornton.\n\nCarmen can help you find starting points for your writing\, u
 nlock your creativity\, and explore place\, character\, point of view and 
 plot\, all over a coffee.\n\nCome along\, share your passion\, and be insp
 ired.\n\nRequirements:\nBookings are essential. Numbers are limited. Socia
 l distancing will be observed. All attendees must abide by Realm's conditi
 ons of entry.
DTSTAMP:20210223T101940Z
END:VEVENT
END:VCALENDAR