BEGIN:VCALENDAR
VERSION:2.0
PRODID:events.yourlibrary.com.au
BEGIN:VEVENT
UID:6034d7f150e57
DTSTART;TZID=Australia/Melbourne:20210316T183000
SEQUENCE:0
TRANSP:OPAQUE
DTEND;TZID=Australia/Melbourne:20210316T193000
URL:https://events.yourlibrary.com.au/event?id=22243
LOCATION:Realm Library\, Ringwood Town Square\, 179 Maroondah Hwy\, Ringwoo
 d 3134 VIC
SUMMARY:Meditation For Balance
CLASS:PUBLIC
DESCRIPTION:Description:\nRelax your mind and body and find balance in thes
 e free weekly meditation sessions.\n\nDr Akshay and his team will introduc
 e you to the meditative practice of sahaja yoga.\n\nRequirements:\nBooking
 s are essential. Numbers are limited. Social distancing will be observed. 
 All attendees must abide by Realm's conditions of entry.
DTSTAMP:20210223T102449Z
END:VEVENT
END:VCALENDAR