BEGIN:VCALENDAR
VERSION:2.0
PRODID:events.yourlibrary.com.au
BEGIN:VEVENT
UID:6034d908943d2
DTSTART;TZID=Australia/Melbourne:20210301T100000
SEQUENCE:0
TRANSP:OPAQUE
DTEND;TZID=Australia/Melbourne:20210301T103000
URL:https://events.yourlibrary.com.au/event?id=22248
LOCATION:Lilydale Library\, Box Hill Institute Lilydale Campus \, Jarlo Dri
 ve\, Lilydale 3140 VIC
SUMMARY:Toddler Storytime @ Lilydale Library
CLASS:PUBLIC
DESCRIPTION:Description:\nBookings are essential for every child and adult 
 over 12 months.\nNumbers are limited.\nSocial distancing will be observed.
 \nSessions will run for 20 minutes and include stories and rhymes and a ta
 ke-home craft activity.\nBookings open 3 days before the session.\nConditi
 ons of Entry to the library must be observed.
DTSTAMP:20210223T102928Z
END:VEVENT
END:VCALENDAR