BEGIN:VCALENDAR
VERSION:2.0
PRODID:events.yourlibrary.com.au
BEGIN:VEVENT
UID:6034d9242c259
DTSTART;TZID=Australia/Melbourne:20210301T110000
SEQUENCE:0
TRANSP:OPAQUE
DTEND;TZID=Australia/Melbourne:20210301T113000
URL:https://events.yourlibrary.com.au/event?id=22297
LOCATION:Belgrave Library\, Reynolds Lane\, Belgrave 3160 VIC
SUMMARY:Toddler Storytime At Belgrave Library
CLASS:PUBLIC
DESCRIPTION:Description:\nBookings are essential for every child and adult 
 over 12 months.\nNumbers are limited.\nSocial distancing will be observed.
 \nSessions will run for 20 minutes and include stories and rhymes and a ta
 ke-home craft activity.\nBookings open 3 days before the session.\nConditi
 ons of Entry to the library must be observed.
DTSTAMP:20210223T102956Z
END:VEVENT
END:VCALENDAR