BEGIN:VCALENDAR
VERSION:2.0
PRODID:events.yourlibrary.com.au
BEGIN:VEVENT
UID:6034d920601a8
DTSTART;TZID=Australia/Melbourne:20210301T100000
SEQUENCE:0
TRANSP:OPAQUE
DTEND;TZID=Australia/Melbourne:20210301T103000
URL:https://events.yourlibrary.com.au/event?id=22306
LOCATION:Montrose Library\, 935 Mount Dandenong Tourist Rd\, Montrose 3765 
 VIC
SUMMARY:Family Storytime At Montrose Library
CLASS:PUBLIC
DESCRIPTION:Description:\nJoin us for stories\, and rhymes for children 0-6
  years old .\nStorytime helps your child develop early literacy skills and
  lifelong love of books.\nBookings are essential for every child and adult
  over 12 months.\nNumbers are limited.\nSocial distancing will be observed
 .\nSessions will run for 20 minutes and include stories and rhymes and a t
 ake-home craft activity.\nBookings open 3 days before the session.\nCondit
 ions of Entry to the library must be observed.
DTSTAMP:20210223T102952Z
END:VEVENT
END:VCALENDAR